BEGIN:VCALENDAR
VERSION:2.0
PRODID:-//destination.one//NONSGML destination.meta API//DE
X-WR-CALDESC:A calendar powered by destination.meta
X-WR-CALNAME:vorderer-bayerischer-wald Kalender via destination.meta
BEGIN:VEVENT
CATEGORIES:Kultur
CATEGORIES:Musik/Konzert
DESCRIPTION:\n\nmehr Informationen unter http://pages.destination.one/de/vo
 rderer-bayerischer-wald/streaming/detail/Event/e_101258302/konzert-mit-org
 el-und-trompete
DTEND;TZID=Europe/Berlin:20260510T235900
DTSTAMP:20260421T133103Z
DTSTART;TZID=Europe/Berlin:20260510T170000
GEO:49.055716;12.370584
LOCATION:Klosterkirche Frauenzell\, Frauenzell 5\, Brennberg
ORGANIZER;CN=Pfarreiengemeinschaft Brennberg-Altenthann-Frauenzell-Bruckbac
 h :mailto:brennberg@bistum-regensburg.de
SEQUENCE:0
SUMMARY:Konzert mit Orgel und Trompete
UID:e_101258302_iv0
URL:http://pages.destination.one/de/vorderer-bayerischer-wald/streaming/det
 ail/Event/e_101258302/konzert-mit-orgel-und-trompete
END:VEVENT
BEGIN:VTIMEZONE
TZID:Europe/Berlin
X-LIC-LOCATION:Europe/Berlin
BEGIN:DAYLIGHT
DTSTART:19700329T020000
RRULE:FREQ=YEARLY;BYDAY=-1SU;BYMONTH=3
TZNAME:CEST
TZOFFSETFROM:+0100
TZOFFSETTO:+0200
END:DAYLIGHT
BEGIN:STANDARD
DTSTART:19701025T030000
RRULE:FREQ=YEARLY;BYDAY=-1SU;BYMONTH=10
TZNAME:CET
TZOFFSETFROM:+0200
TZOFFSETTO:+0100
END:STANDARD
END:VTIMEZONE
END:VCALENDAR
