BEGIN:VCALENDAR
VERSION:2.0
PRODID:-//destination.one//NONSGML destination.meta API//DE
X-WR-CALDESC:A calendar powered by destination.meta
X-WR-CALNAME:vorderer-bayerischer-wald Kalender via destination.meta
BEGIN:VEVENT
CATEGORIES:Kultur
CATEGORIES:Literatur/Vortrag/Film
DESCRIPTION:\n\nmehr Informationen unter http://pages.destination.one/de/vo
 rderer-bayerischer-wald/streaming/detail/Event/e_101258298/maria-schreier-
 liest-und-erz-hlt-episoden-aus-dem-leben-ihrer-mutter-des-zach-n-madl-vom-
 pinklhof
DTEND;TZID=Europe/Berlin:20260509T235900
DTSTAMP:20260421T121030Z
DTSTART;TZID=Europe/Berlin:20260509T170000
GEO:49.054492;12.372622
LOCATION:Pfarrheim Frauenzell\, \, Brennberg
SEQUENCE:0
SUMMARY:Maria Schreier liest und erzählt Episoden aus dem Leben ihrer Mutte
 r\, des Zach`n Madl vom Pinklhof
UID:e_101258298_iv0
URL:http://pages.destination.one/de/vorderer-bayerischer-wald/streaming/det
 ail/Event/e_101258298/maria-schreier-liest-und-erz-hlt-episoden-aus-dem-le
 ben-ihrer-mutter-des-zach-n-madl-vom-pinklhof
END:VEVENT
BEGIN:VTIMEZONE
TZID:Europe/Berlin
X-LIC-LOCATION:Europe/Berlin
BEGIN:DAYLIGHT
DTSTART:19700329T020000
RRULE:FREQ=YEARLY;BYDAY=-1SU;BYMONTH=3
TZNAME:CEST
TZOFFSETFROM:+0100
TZOFFSETTO:+0200
END:DAYLIGHT
BEGIN:STANDARD
DTSTART:19701025T030000
RRULE:FREQ=YEARLY;BYDAY=-1SU;BYMONTH=10
TZNAME:CET
TZOFFSETFROM:+0200
TZOFFSETTO:+0100
END:STANDARD
END:VTIMEZONE
END:VCALENDAR
