BEGIN:VCALENDAR
VERSION:2.0
PRODID:-//destination.one//NONSGML destination.meta API//DE
X-WR-CALDESC:A calendar powered by destination.meta
X-WR-CALNAME:vorderer-bayerischer-wald Kalender via destination.meta
BEGIN:VEVENT
CATEGORIES:Musik/Konzert
DESCRIPTION:\n\nmehr Informationen unter http://pages.destination.one/de/vo
 rderer-bayerischer-wald/streaming/detail/Event/e_101244876/konzert-ak-kult
 ur-powerpack-im-sommerkeller
DTEND;TZID=Europe/Berlin:20260425T220000
DTSTAMP:20260424T112924Z
DTSTART;TZID=Europe/Berlin:20260425T200000
GEO:49.006996;12.378180
LOCATION:Sommerkeller Wiesent\, Regensburger Str. 2\, Wiesent
ORGANIZER;CN=AK Kultur der Gemeinde Wiesent:mailto:alstad@r-kom.net
PRIORITY:4
SEQUENCE:0
SUMMARY:Konzert AK Kultur: PowerPack im Sommerkeller
UID:e_101244876_iv0
URL:http://pages.destination.one/de/vorderer-bayerischer-wald/streaming/det
 ail/Event/e_101244876/konzert-ak-kultur-powerpack-im-sommerkeller
END:VEVENT
BEGIN:VTIMEZONE
TZID:Europe/Berlin
X-LIC-LOCATION:Europe/Berlin
BEGIN:DAYLIGHT
DTSTART:19700329T020000
RRULE:FREQ=YEARLY;BYDAY=-1SU;BYMONTH=3
TZNAME:CEST
TZOFFSETFROM:+0100
TZOFFSETTO:+0200
END:DAYLIGHT
BEGIN:STANDARD
DTSTART:19701025T030000
RRULE:FREQ=YEARLY;BYDAY=-1SU;BYMONTH=10
TZNAME:CET
TZOFFSETFROM:+0200
TZOFFSETTO:+0100
END:STANDARD
END:VTIMEZONE
END:VCALENDAR
