BEGIN:VCALENDAR
VERSION:2.0
PRODID:-//destination.one//NONSGML destination.meta API//DE
X-WR-CALDESC:A calendar powered by destination.meta
X-WR-CALNAME:vorderer-bayerischer-wald Kalender via destination.meta
BEGIN:VEVENT
CATEGORIES:Kurs/Seminar/Hobby
DESCRIPTION:Unter der Leitung des renommierten Bigbandleaders und Arrangeur
 s Tobias Becker können sich interessierte Bigbandspieler*innen für eine Bi
 gband-Master-Class zusammenfinden.\n\nmehr Informationen unter http://page
 s.destination.one/de/vorderer-bayerischer-wald/streaming/detail/Event/e_10
 1225993/meisterkurs-big-band-mit-tobias-becker
DTEND;TZID=Europe/Berlin;VALUE=DATE:20260509
DTSTAMP:20260422T095122Z
DTSTART;TZID=Europe/Berlin;VALUE=DATE:20260504
GEO:48.918486;12.204667
LOCATION:Bayerische Musikakademie Schloss Alteglofsheim\, Am Schlosshof 1\,
  Alteglofsheim
ORGANIZER;CN=Bayerische Musikakademie Schloss Alteglofsheim:mailto:info@mus
 ikakademie-alteglofsheim.de
SEQUENCE:0
SUMMARY:Meisterkurs Big-Band mit Tobias Becker
UID:e_101225993_iv0
URL:http://pages.destination.one/de/vorderer-bayerischer-wald/streaming/det
 ail/Event/e_101225993/meisterkurs-big-band-mit-tobias-becker
END:VEVENT
BEGIN:VTIMEZONE
TZID:Europe/Berlin
X-LIC-LOCATION:Europe/Berlin
BEGIN:DAYLIGHT
DTSTART:19700329T020000
RRULE:FREQ=YEARLY;BYDAY=-1SU;BYMONTH=3
TZNAME:CEST
TZOFFSETFROM:+0100
TZOFFSETTO:+0200
END:DAYLIGHT
BEGIN:STANDARD
DTSTART:19701025T030000
RRULE:FREQ=YEARLY;BYDAY=-1SU;BYMONTH=10
TZNAME:CET
TZOFFSETFROM:+0200
TZOFFSETTO:+0100
END:STANDARD
END:VTIMEZONE
END:VCALENDAR
