BEGIN:VCALENDAR
VERSION:2.0
PRODID:-//destination.one//NONSGML destination.meta API//DE
X-WR-CALDESC:A calendar powered by destination.meta
X-WR-CALNAME:vorderer-bayerischer-wald Kalender via destination.meta
BEGIN:VEVENT
CATEGORIES:Kultur
CATEGORIES:Kunst
CATEGORIES:Musik/Konzert
CATEGORIES:Sonstiges
DESCRIPTION:DAS Brass-Sextett ist wieder da!\n20 Uhr Cocktail\, 21 Uhr Konz
 ert   |  Einlass ab 19.30 Uhr\n\nmehr Informationen unter http://pages.des
 tination.one/de/vorderer-bayerischer-wald/streaming/detail/Event/e_1012225
 70/benefizkonzert-mit-ensemble-classique
DTEND;TZID=Europe/Berlin:20260626T235900
DTSTAMP:20260420T100312Z
DTSTART;TZID=Europe/Berlin:20260626T200000
GEO:49.021365;12.375240
LOCATION:Nepal-Himalaya-Park\, Martiniplatte 1\, Wiesent
ORGANIZER;CN=Nepal-Himalaya-Park:mailto:info@nepal-himalaya-park.de
SEQUENCE:0
SUMMARY:Benefizkonzert mit Ensemble Classique  
UID:e_101222570_iv0
URL:http://pages.destination.one/de/vorderer-bayerischer-wald/streaming/det
 ail/Event/e_101222570/benefizkonzert-mit-ensemble-classique
END:VEVENT
BEGIN:VTIMEZONE
TZID:Europe/Berlin
X-LIC-LOCATION:Europe/Berlin
BEGIN:DAYLIGHT
DTSTART:19700329T020000
RRULE:FREQ=YEARLY;BYDAY=-1SU;BYMONTH=3
TZNAME:CEST
TZOFFSETFROM:+0100
TZOFFSETTO:+0200
END:DAYLIGHT
BEGIN:STANDARD
DTSTART:19701025T030000
RRULE:FREQ=YEARLY;BYDAY=-1SU;BYMONTH=10
TZNAME:CET
TZOFFSETFROM:+0200
TZOFFSETTO:+0100
END:STANDARD
END:VTIMEZONE
END:VCALENDAR
