BEGIN:VCALENDAR
VERSION:2.0
PRODID:-//destination.one//NONSGML destination.meta API//DE
X-WR-CALDESC:A calendar powered by destination.meta
X-WR-CALNAME:vorderer-bayerischer-wald Kalender via destination.meta
BEGIN:VEVENT
CATEGORIES:Vereine
CATEGORIES:Sonstiges
CATEGORIES:Musik/Konzert
DESCRIPTION:Konzert des Gebirgsmusikkorps der Bundeswehrin der Gemeindehall
 e in Wald\, organisiert von der Blaskapelle Bernhardswald.\n\nmehr Informa
 tionen unter http://pages.destination.one/de/vorderer-bayerischer-wald/str
 eaming/detail/Event/e_101161265/blasmusikkonzert-konzert-des-gebirgsmusikk
 orps-der-bundeswehr
DTEND;TZID=Europe/Berlin:20260430T213000
DTSTAMP:20260420T100512Z
DTSTART;TZID=Europe/Berlin:20260430T193000
GEO:49.148893;12.347249
LOCATION:Gemeindehalle Wald\, Hauptstr. 14 A\, Wald
ORGANIZER;CN=Blaskapelle Bernhardswald e.V.:mailto:konzertgebmuskorpsbw@bla
 skapelle-bernhardswald.de
PRIORITY:4
SEQUENCE:0
SUMMARY:Blasmusikkonzert: Konzert des Gebirgsmusikkorps der Bundeswehr
UID:e_101161265_iv0
URL:http://pages.destination.one/de/vorderer-bayerischer-wald/streaming/det
 ail/Event/e_101161265/blasmusikkonzert-konzert-des-gebirgsmusikkorps-der-b
 undeswehr
END:VEVENT
BEGIN:VTIMEZONE
TZID:Europe/Berlin
X-LIC-LOCATION:Europe/Berlin
BEGIN:DAYLIGHT
DTSTART:19700329T020000
RRULE:FREQ=YEARLY;BYDAY=-1SU;BYMONTH=3
TZNAME:CEST
TZOFFSETFROM:+0100
TZOFFSETTO:+0200
END:DAYLIGHT
BEGIN:STANDARD
DTSTART:19701025T030000
RRULE:FREQ=YEARLY;BYDAY=-1SU;BYMONTH=10
TZNAME:CET
TZOFFSETFROM:+0200
TZOFFSETTO:+0100
END:STANDARD
END:VTIMEZONE
END:VCALENDAR
