BEGIN:VCALENDAR
VERSION:2.0
PRODID:-//destination.one//NONSGML destination.meta API//DE
X-WR-CALDESC:A calendar powered by destination.meta
X-WR-CALNAME:vorderer-bayerischer-wald Kalender via destination.meta
BEGIN:VEVENT
CATEGORIES:Sonstiges
DESCRIPTION:\n\nmehr Informationen unter http://pages.destination.one/de/vo
 rderer-bayerischer-wald/streaming/detail/Event/e_101151938/vortrag-freunde
 skreis-des-ehemaligen-benediktinerkosters-frauenzell-mit-unterst-tzung-der
 -gemeinde
DTEND;TZID=Europe/Berlin:20261016T235900
DTSTAMP:20260419T123547Z
DTSTART;TZID=Europe/Berlin:20261016T190000
GEO:49.069965;12.396946
LOCATION:ehem. Klosterschänke\, \, Brennberg
SEQUENCE:0
SUMMARY:Vortrag - Freundeskreis des ehemaligen Benediktinerkosters Frauenze
 ll mit Unterstützung der Gemeinde
UID:e_101151938_iv0
URL:http://pages.destination.one/de/vorderer-bayerischer-wald/streaming/det
 ail/Event/e_101151938/vortrag-freundeskreis-des-ehemaligen-benediktinerkos
 ters-frauenzell-mit-unterst-tzung-der-gemeinde
END:VEVENT
BEGIN:VTIMEZONE
TZID:Europe/Berlin
X-LIC-LOCATION:Europe/Berlin
BEGIN:DAYLIGHT
DTSTART:19700329T020000
RRULE:FREQ=YEARLY;BYDAY=-1SU;BYMONTH=3
TZNAME:CEST
TZOFFSETFROM:+0100
TZOFFSETTO:+0200
END:DAYLIGHT
BEGIN:STANDARD
DTSTART:19701025T030000
RRULE:FREQ=YEARLY;BYDAY=-1SU;BYMONTH=10
TZNAME:CET
TZOFFSETFROM:+0200
TZOFFSETTO:+0100
END:STANDARD
END:VTIMEZONE
END:VCALENDAR
