BEGIN:VCALENDAR
VERSION:2.0
PRODID:-//destination.one//NONSGML destination.meta API//DE
X-WR-CALDESC:A calendar powered by destination.meta
X-WR-CALNAME:vorderer-bayerischer-wald Kalender via destination.meta
BEGIN:VEVENT
CATEGORIES:Geselligkeit/Spiel
CATEGORIES:Musik/Konzert
DESCRIPTION:\n\nmehr Informationen unter http://pages.destination.one/de/vo
 rderer-bayerischer-wald/streaming/detail/Event/e_101145649/oktoberfest-jug
 endheim-frauenzell-kljb-frauenzell-bruckbach
DTEND;TZID=Europe/Berlin:20261003T020000
DTSTAMP:20260424T085728Z
DTSTART;TZID=Europe/Berlin:20261002T180000
GEO:49.055974;12.370837
LOCATION:Kloster Frauenzell\, Frauenzell 5\, Brennberg
ORGANIZER;CN=KLJB Frauenzell-Bruckbach:mailto:peter-mender@gmx.de
SEQUENCE:0
SUMMARY:Oktoberfest - Jugendheim Frauenzell - KLJB Frauenzell-Bruckbach
UID:e_101145649_iv0
URL:http://pages.destination.one/de/vorderer-bayerischer-wald/streaming/det
 ail/Event/e_101145649/oktoberfest-jugendheim-frauenzell-kljb-frauenzell-br
 uckbach
END:VEVENT
BEGIN:VTIMEZONE
TZID:Europe/Berlin
X-LIC-LOCATION:Europe/Berlin
BEGIN:DAYLIGHT
DTSTART:19700329T020000
RRULE:FREQ=YEARLY;BYDAY=-1SU;BYMONTH=3
TZNAME:CEST
TZOFFSETFROM:+0100
TZOFFSETTO:+0200
END:DAYLIGHT
BEGIN:STANDARD
DTSTART:19701025T030000
RRULE:FREQ=YEARLY;BYDAY=-1SU;BYMONTH=10
TZNAME:CET
TZOFFSETFROM:+0200
TZOFFSETTO:+0100
END:STANDARD
END:VTIMEZONE
END:VCALENDAR
