BEGIN:VCALENDAR
VERSION:2.0
PRODID:-//destination.one//NONSGML destination.meta API//DE
X-WR-CALDESC:A calendar powered by destination.meta
X-WR-CALNAME:vorderer-bayerischer-wald Kalender via destination.meta
BEGIN:VEVENT
CATEGORIES:Fest
DESCRIPTION:\n\nmehr Informationen unter http://pages.destination.one/de/vo
 rderer-bayerischer-wald/streaming/detail/Event/e_100996524/ak-wiesenter-fr
 auen-weinfest
DTEND;TZID=Europe/Berlin:20251010T220000
DTSTAMP:20260420T100447Z
DTSTART;TZID=Europe/Berlin:20251010T190000
GEO:49.006088;12.378867
LOCATION:AK Wiesenter Frauen\, \, Wiesent
ORGANIZER;CN=Gaststätte Liebl:mailto:mplbaumann@yahoo.de
SEQUENCE:0
SUMMARY:AK Wiesenter Frauen: Weinfest
UID:e_100996524_iv0
URL:http://pages.destination.one/de/vorderer-bayerischer-wald/streaming/det
 ail/Event/e_100996524/ak-wiesenter-frauen-weinfest
END:VEVENT
BEGIN:VEVENT
CATEGORIES:Fest
DESCRIPTION:\n\nmehr Informationen unter http://pages.destination.one/de/vo
 rderer-bayerischer-wald/streaming/detail/Event/e_100996524/ak-wiesenter-fr
 auen-weinfest
DTEND;TZID=Europe/Berlin:20261014T220000
DTSTAMP:20260420T100447Z
DTSTART;TZID=Europe/Berlin:20261014T190000
GEO:49.006088;12.378867
LOCATION:AK Wiesenter Frauen\, \, Wiesent
ORGANIZER;CN=Gaststätte Liebl:mailto:mplbaumann@yahoo.de
SEQUENCE:0
SUMMARY:AK Wiesenter Frauen: Weinfest
UID:e_100996524_iv1
URL:http://pages.destination.one/de/vorderer-bayerischer-wald/streaming/det
 ail/Event/e_100996524/ak-wiesenter-frauen-weinfest
END:VEVENT
BEGIN:VTIMEZONE
TZID:Europe/Berlin
X-LIC-LOCATION:Europe/Berlin
BEGIN:DAYLIGHT
DTSTART:19700329T020000
RRULE:FREQ=YEARLY;BYDAY=-1SU;BYMONTH=3
TZNAME:CEST
TZOFFSETFROM:+0100
TZOFFSETTO:+0200
END:DAYLIGHT
BEGIN:STANDARD
DTSTART:19701025T030000
RRULE:FREQ=YEARLY;BYDAY=-1SU;BYMONTH=10
TZNAME:CET
TZOFFSETFROM:+0200
TZOFFSETTO:+0100
END:STANDARD
END:VTIMEZONE
END:VCALENDAR
