BEGIN:VCALENDAR
VERSION:2.0
PRODID:-//destination.one//NONSGML destination.meta API//DE
X-WR-CALDESC:A calendar powered by destination.meta
X-WR-CALNAME:vorderer-bayerischer-wald Kalender via destination.meta
BEGIN:VEVENT
CATEGORIES:Ausflug/Fahrt
CATEGORIES:Kulinarisches
CATEGORIES:Brauchtum
DESCRIPTION:Schifffahrt zum Feierabend\n\nmehr Informationen unter http://p
 ages.destination.one/de/vorderer-bayerischer-wald/streaming/detail/Event/e
 _100992021/schwimmender-biergarten
DTEND;TZID=Europe/Berlin:20250703T210000
DTSTAMP:20260420T100155Z
DTSTART;TZID=Europe/Berlin:20250703T183000
GEO:49.021224;12.097225
LOCATION:Anleger 1\, Thundorferstraße 6\, Regensburg
ORGANIZER;CN=Regensburger Personenschifffahrt Klinger GmbH:mailto:info@schi
 fffahrtklinger.de
SEQUENCE:0
SUMMARY:Schwimmender Biergarten
UID:e_100992021_iv0
URL:http://pages.destination.one/de/vorderer-bayerischer-wald/streaming/det
 ail/Event/e_100992021/schwimmender-biergarten
END:VEVENT
BEGIN:VEVENT
CATEGORIES:Ausflug/Fahrt
CATEGORIES:Kulinarisches
CATEGORIES:Brauchtum
DESCRIPTION:Schifffahrt zum Feierabend\n\nmehr Informationen unter http://p
 ages.destination.one/de/vorderer-bayerischer-wald/streaming/detail/Event/e
 _100992021/schwimmender-biergarten
DTEND;TZID=Europe/Berlin:20250717T210000
DTSTAMP:20260420T100155Z
DTSTART;TZID=Europe/Berlin:20250717T183000
GEO:49.021224;12.097225
LOCATION:Anleger 1\, Thundorferstraße 6\, Regensburg
ORGANIZER;CN=Regensburger Personenschifffahrt Klinger GmbH:mailto:info@schi
 fffahrtklinger.de
SEQUENCE:0
SUMMARY:Schwimmender Biergarten
UID:e_100992021_iv1
URL:http://pages.destination.one/de/vorderer-bayerischer-wald/streaming/det
 ail/Event/e_100992021/schwimmender-biergarten
END:VEVENT
BEGIN:VEVENT
CATEGORIES:Ausflug/Fahrt
CATEGORIES:Kulinarisches
CATEGORIES:Brauchtum
DESCRIPTION:Schifffahrt zum Feierabend\n\nmehr Informationen unter http://p
 ages.destination.one/de/vorderer-bayerischer-wald/streaming/detail/Event/e
 _100992021/schwimmender-biergarten
DTEND;TZID=Europe/Berlin:20250731T210000
DTSTAMP:20260420T100155Z
DTSTART;TZID=Europe/Berlin:20250731T183000
GEO:49.021224;12.097225
LOCATION:Anleger 1\, Thundorferstraße 6\, Regensburg
ORGANIZER;CN=Regensburger Personenschifffahrt Klinger GmbH:mailto:info@schi
 fffahrtklinger.de
SEQUENCE:0
SUMMARY:Schwimmender Biergarten
UID:e_100992021_iv2
URL:http://pages.destination.one/de/vorderer-bayerischer-wald/streaming/det
 ail/Event/e_100992021/schwimmender-biergarten
END:VEVENT
BEGIN:VEVENT
CATEGORIES:Ausflug/Fahrt
CATEGORIES:Kulinarisches
CATEGORIES:Brauchtum
DESCRIPTION:Schifffahrt zum Feierabend\n\nmehr Informationen unter http://p
 ages.destination.one/de/vorderer-bayerischer-wald/streaming/detail/Event/e
 _100992021/schwimmender-biergarten
DTEND;TZID=Europe/Berlin:20260702T210000
DTSTAMP:20260420T100155Z
DTSTART;TZID=Europe/Berlin:20260702T183000
GEO:49.021224;12.097225
LOCATION:Anleger 1\, Thundorferstraße 6\, Regensburg
ORGANIZER;CN=Regensburger Personenschifffahrt Klinger GmbH:mailto:info@schi
 fffahrtklinger.de
RRULE:FREQ=WEEKLY;UNTIL=20260730T190000;BYDAY=TH
SEQUENCE:0
SUMMARY:Schwimmender Biergarten
UID:e_100992021_iv3
URL:http://pages.destination.one/de/vorderer-bayerischer-wald/streaming/det
 ail/Event/e_100992021/schwimmender-biergarten
END:VEVENT
BEGIN:VTIMEZONE
TZID:Europe/Berlin
X-LIC-LOCATION:Europe/Berlin
BEGIN:DAYLIGHT
DTSTART:19700329T020000
RRULE:FREQ=YEARLY;BYDAY=-1SU;BYMONTH=3
TZNAME:CEST
TZOFFSETFROM:+0100
TZOFFSETTO:+0200
END:DAYLIGHT
BEGIN:STANDARD
DTSTART:19701025T030000
RRULE:FREQ=YEARLY;BYDAY=-1SU;BYMONTH=10
TZNAME:CET
TZOFFSETFROM:+0200
TZOFFSETTO:+0100
END:STANDARD
END:VTIMEZONE
END:VCALENDAR
