BEGIN:VCALENDAR
VERSION:2.0
PRODID:-//destination.one//NONSGML destination.meta API//DE
X-WR-CALDESC:A calendar powered by destination.meta
X-WR-CALNAME:vorderer-bayerischer-wald Kalender via destination.meta
BEGIN:VEVENT
CATEGORIES:Fest
CATEGORIES:Geselligkeit/Spiel
CATEGORIES:Kulinarisches
CATEGORIES:Sonstiges
DESCRIPTION:Brennberger Weinfest im Fuchsbeck-Stodel\n\nmehr Informationen 
 unter http://pages.destination.one/de/vorderer-bayerischer-wald/streaming/
 detail/Event/e_100607115/weinfest-in-brennberg-des-burgfr-uleinbasars-in-z
 usammenarbeit-mit-dem-nachbarschaftshilfeverein
DTEND;TZID=Europe/Berlin:20230901T235900
DTSTAMP:20260421T131114Z
DTSTART;TZID=Europe/Berlin:20230901T180000
GEO:49.070316;12.396988
LOCATION:Fuchsbeck-Stodel\, Höllbachstraße 1\, Brennberg
SEQUENCE:0
SUMMARY:Weinfest in Brennberg des Burgfräuleinbasars in Zusammenarbeit mit 
 dem Nachbarschaftshilfeverein
UID:e_100607115_iv0
URL:http://pages.destination.one/de/vorderer-bayerischer-wald/streaming/det
 ail/Event/e_100607115/weinfest-in-brennberg-des-burgfr-uleinbasars-in-zusa
 mmenarbeit-mit-dem-nachbarschaftshilfeverein
END:VEVENT
BEGIN:VEVENT
CATEGORIES:Fest
CATEGORIES:Geselligkeit/Spiel
CATEGORIES:Kulinarisches
CATEGORIES:Sonstiges
DESCRIPTION:Brennberger Weinfest im Fuchsbeck-Stodel\n\nmehr Informationen 
 unter http://pages.destination.one/de/vorderer-bayerischer-wald/streaming/
 detail/Event/e_100607115/weinfest-in-brennberg-des-burgfr-uleinbasars-in-z
 usammenarbeit-mit-dem-nachbarschaftshilfeverein
DTEND;TZID=Europe/Berlin:20240831T235900
DTSTAMP:20260421T131114Z
DTSTART;TZID=Europe/Berlin:20240831T180000
GEO:49.070316;12.396988
LOCATION:Fuchsbeck-Stodel\, Höllbachstraße 1\, Brennberg
SEQUENCE:0
SUMMARY:Weinfest in Brennberg des Burgfräuleinbasars in Zusammenarbeit mit 
 dem Nachbarschaftshilfeverein
UID:e_100607115_iv1
URL:http://pages.destination.one/de/vorderer-bayerischer-wald/streaming/det
 ail/Event/e_100607115/weinfest-in-brennberg-des-burgfr-uleinbasars-in-zusa
 mmenarbeit-mit-dem-nachbarschaftshilfeverein
END:VEVENT
BEGIN:VEVENT
CATEGORIES:Fest
CATEGORIES:Geselligkeit/Spiel
CATEGORIES:Kulinarisches
CATEGORIES:Sonstiges
DESCRIPTION:Brennberger Weinfest im Fuchsbeck-Stodel\n\nmehr Informationen 
 unter http://pages.destination.one/de/vorderer-bayerischer-wald/streaming/
 detail/Event/e_100607115/weinfest-in-brennberg-des-burgfr-uleinbasars-in-z
 usammenarbeit-mit-dem-nachbarschaftshilfeverein
DTEND;TZID=Europe/Berlin:20250830T235900
DTSTAMP:20260421T131114Z
DTSTART;TZID=Europe/Berlin:20250830T180000
GEO:49.070316;12.396988
LOCATION:Fuchsbeck-Stodel\, Höllbachstraße 1\, Brennberg
SEQUENCE:0
SUMMARY:Weinfest in Brennberg des Burgfräuleinbasars in Zusammenarbeit mit 
 dem Nachbarschaftshilfeverein
UID:e_100607115_iv2
URL:http://pages.destination.one/de/vorderer-bayerischer-wald/streaming/det
 ail/Event/e_100607115/weinfest-in-brennberg-des-burgfr-uleinbasars-in-zusa
 mmenarbeit-mit-dem-nachbarschaftshilfeverein
END:VEVENT
BEGIN:VEVENT
CATEGORIES:Fest
CATEGORIES:Geselligkeit/Spiel
CATEGORIES:Kulinarisches
CATEGORIES:Sonstiges
DESCRIPTION:Brennberger Weinfest im Fuchsbeck-Stodel\n\nmehr Informationen 
 unter http://pages.destination.one/de/vorderer-bayerischer-wald/streaming/
 detail/Event/e_100607115/weinfest-in-brennberg-des-burgfr-uleinbasars-in-z
 usammenarbeit-mit-dem-nachbarschaftshilfeverein
DTEND;TZID=Europe/Berlin:20260904T235900
DTSTAMP:20260421T131114Z
DTSTART;TZID=Europe/Berlin:20260904T190000
GEO:49.070316;12.396988
LOCATION:Fuchsbeck-Stodel\, Höllbachstraße 1\, Brennberg
SEQUENCE:0
SUMMARY:Weinfest in Brennberg des Burgfräuleinbasars in Zusammenarbeit mit 
 dem Nachbarschaftshilfeverein
UID:e_100607115_iv3
URL:http://pages.destination.one/de/vorderer-bayerischer-wald/streaming/det
 ail/Event/e_100607115/weinfest-in-brennberg-des-burgfr-uleinbasars-in-zusa
 mmenarbeit-mit-dem-nachbarschaftshilfeverein
END:VEVENT
BEGIN:VTIMEZONE
TZID:Europe/Berlin
X-LIC-LOCATION:Europe/Berlin
BEGIN:DAYLIGHT
DTSTART:19700329T020000
RRULE:FREQ=YEARLY;BYDAY=-1SU;BYMONTH=3
TZNAME:CEST
TZOFFSETFROM:+0100
TZOFFSETTO:+0200
END:DAYLIGHT
BEGIN:STANDARD
DTSTART:19701025T030000
RRULE:FREQ=YEARLY;BYDAY=-1SU;BYMONTH=10
TZNAME:CET
TZOFFSETFROM:+0200
TZOFFSETTO:+0100
END:STANDARD
END:VTIMEZONE
END:VCALENDAR
