BEGIN:VCALENDAR
VERSION:2.0
PRODID:-//destination.one//NONSGML destination.meta API//DE
X-WR-CALDESC:A calendar powered by destination.meta
X-WR-CALNAME:vorderer-bayerischer-wald Kalender via destination.meta
BEGIN:VEVENT
CATEGORIES:Sonstiges
DESCRIPTION:Abgesagt!!!!\n\nmehr Informationen unter http://pages.destinati
 on.one/de/vorderer-bayerischer-wald/streaming/detail/Event/e_100019266/abg
 esagt-gartenmarkt-ogv-brennberg
DTEND;TZID=Europe/Berlin:20150503T160000
DTSTAMP:20260420T100447Z
DTSTART;TZID=Europe/Berlin:20150503T100000
GEO:49.068527;12.391191
LOCATION:Schule Brennberg\, Johannisstraße 8\, Brennberg
PRIORITY:4
SEQUENCE:0
STATUS:Cancelled
SUMMARY:Abgesagt - Gartenmarkt OGV Brennberg 
UID:e_100019266_iv0
URL:http://pages.destination.one/de/vorderer-bayerischer-wald/streaming/det
 ail/Event/e_100019266/abgesagt-gartenmarkt-ogv-brennberg
END:VEVENT
BEGIN:VEVENT
CATEGORIES:Sonstiges
DESCRIPTION:Abgesagt!!!!\n\nmehr Informationen unter http://pages.destinati
 on.one/de/vorderer-bayerischer-wald/streaming/detail/Event/e_100019266/abg
 esagt-gartenmarkt-ogv-brennberg
DTEND;TZID=Europe/Berlin:20170423T170000
DTSTAMP:20260420T100447Z
DTSTART;TZID=Europe/Berlin:20170423T100000
GEO:49.068527;12.391191
LOCATION:Schule Brennberg\, Johannisstraße 8\, Brennberg
PRIORITY:4
SEQUENCE:0
STATUS:Cancelled
SUMMARY:Abgesagt - Gartenmarkt OGV Brennberg 
UID:e_100019266_iv1
URL:http://pages.destination.one/de/vorderer-bayerischer-wald/streaming/det
 ail/Event/e_100019266/abgesagt-gartenmarkt-ogv-brennberg
END:VEVENT
BEGIN:VEVENT
CATEGORIES:Sonstiges
DESCRIPTION:Abgesagt!!!!\n\nmehr Informationen unter http://pages.destinati
 on.one/de/vorderer-bayerischer-wald/streaming/detail/Event/e_100019266/abg
 esagt-gartenmarkt-ogv-brennberg
DTEND;TZID=Europe/Berlin:20180506T170000
DTSTAMP:20260420T100447Z
DTSTART;TZID=Europe/Berlin:20180506T100000
GEO:49.068527;12.391191
LOCATION:Schule Brennberg\, Johannisstraße 8\, Brennberg
PRIORITY:4
SEQUENCE:0
STATUS:Cancelled
SUMMARY:Abgesagt - Gartenmarkt OGV Brennberg 
UID:e_100019266_iv2
URL:http://pages.destination.one/de/vorderer-bayerischer-wald/streaming/det
 ail/Event/e_100019266/abgesagt-gartenmarkt-ogv-brennberg
END:VEVENT
BEGIN:VEVENT
CATEGORIES:Sonstiges
DESCRIPTION:Abgesagt!!!!\n\nmehr Informationen unter http://pages.destinati
 on.one/de/vorderer-bayerischer-wald/streaming/detail/Event/e_100019266/abg
 esagt-gartenmarkt-ogv-brennberg
DTEND;TZID=Europe/Berlin:20220515T160000
DTSTAMP:20260420T100447Z
DTSTART;TZID=Europe/Berlin:20220515T100000
GEO:49.068527;12.391191
LOCATION:Schule Brennberg\, Johannisstraße 8\, Brennberg
PRIORITY:4
SEQUENCE:0
STATUS:Cancelled
SUMMARY:Abgesagt - Gartenmarkt OGV Brennberg 
UID:e_100019266_iv3
URL:http://pages.destination.one/de/vorderer-bayerischer-wald/streaming/det
 ail/Event/e_100019266/abgesagt-gartenmarkt-ogv-brennberg
END:VEVENT
BEGIN:VEVENT
CATEGORIES:Sonstiges
DESCRIPTION:Abgesagt!!!!\n\nmehr Informationen unter http://pages.destinati
 on.one/de/vorderer-bayerischer-wald/streaming/detail/Event/e_100019266/abg
 esagt-gartenmarkt-ogv-brennberg
DTEND;TZID=Europe/Berlin:20240505T160000
DTSTAMP:20260420T100447Z
DTSTART;TZID=Europe/Berlin:20240505T100000
GEO:49.068527;12.391191
LOCATION:Schule Brennberg\, Johannisstraße 8\, Brennberg
PRIORITY:4
SEQUENCE:0
STATUS:Cancelled
SUMMARY:Abgesagt - Gartenmarkt OGV Brennberg 
UID:e_100019266_iv4
URL:http://pages.destination.one/de/vorderer-bayerischer-wald/streaming/det
 ail/Event/e_100019266/abgesagt-gartenmarkt-ogv-brennberg
END:VEVENT
BEGIN:VEVENT
CATEGORIES:Sonstiges
DESCRIPTION:Abgesagt!!!!\n\nmehr Informationen unter http://pages.destinati
 on.one/de/vorderer-bayerischer-wald/streaming/detail/Event/e_100019266/abg
 esagt-gartenmarkt-ogv-brennberg
DTEND;TZID=Europe/Berlin:20250427T160000
DTSTAMP:20260420T100447Z
DTSTART;TZID=Europe/Berlin:20250427T100000
GEO:49.068527;12.391191
LOCATION:Schule Brennberg\, Johannisstraße 8\, Brennberg
PRIORITY:4
SEQUENCE:0
STATUS:Cancelled
SUMMARY:Abgesagt - Gartenmarkt OGV Brennberg 
UID:e_100019266_iv5
URL:http://pages.destination.one/de/vorderer-bayerischer-wald/streaming/det
 ail/Event/e_100019266/abgesagt-gartenmarkt-ogv-brennberg
END:VEVENT
BEGIN:VEVENT
CATEGORIES:Sonstiges
DESCRIPTION:Abgesagt!!!!\n\nmehr Informationen unter http://pages.destinati
 on.one/de/vorderer-bayerischer-wald/streaming/detail/Event/e_100019266/abg
 esagt-gartenmarkt-ogv-brennberg
DTEND;TZID=Europe/Berlin:20260426T160000
DTSTAMP:20260420T100447Z
DTSTART;TZID=Europe/Berlin:20260426T100000
GEO:49.068527;12.391191
LOCATION:Schule Brennberg\, Johannisstraße 8\, Brennberg
PRIORITY:4
SEQUENCE:0
STATUS:Cancelled
SUMMARY:Abgesagt - Gartenmarkt OGV Brennberg 
UID:e_100019266_iv6
URL:http://pages.destination.one/de/vorderer-bayerischer-wald/streaming/det
 ail/Event/e_100019266/abgesagt-gartenmarkt-ogv-brennberg
END:VEVENT
BEGIN:VTIMEZONE
TZID:Europe/Berlin
X-LIC-LOCATION:Europe/Berlin
BEGIN:DAYLIGHT
DTSTART:19700329T020000
RRULE:FREQ=YEARLY;BYDAY=-1SU;BYMONTH=3
TZNAME:CEST
TZOFFSETFROM:+0100
TZOFFSETTO:+0200
END:DAYLIGHT
BEGIN:STANDARD
DTSTART:19701025T030000
RRULE:FREQ=YEARLY;BYDAY=-1SU;BYMONTH=10
TZNAME:CET
TZOFFSETFROM:+0200
TZOFFSETTO:+0100
END:STANDARD
END:VTIMEZONE
END:VCALENDAR
